BEGIN:VCALENDAR
VERSION:2.0
PRODID:-//St John&#039;s Anglican Church - ECPv6.10.2//NONSGML v1.0//EN
CALSCALE:GREGORIAN
METHOD:PUBLISH
X-ORIGINAL-URL:https://stjohnsorangeville.ca
X-WR-CALDESC:Events for St John&#039;s Anglican Church
REFRESH-INTERVAL;VALUE=DURATION:PT1H
X-Robots-Tag:noindex
X-PUBLISHED-TTL:PT1H
BEGIN:VTIMEZONE
TZID:America/Toronto
BEGIN:DAYLIGHT
TZOFFSETFROM:-0500
TZOFFSETTO:-0400
TZNAME:EDT
DTSTART:20240310T070000
END:DAYLIGHT
BEGIN:STANDARD
TZOFFSETFROM:-0400
TZOFFSETTO:-0500
TZNAME:EST
DTSTART:20241103T060000
END:STANDARD
END:VTIMEZONE
BEGIN:VEVENT
DTSTART;TZID=America/Toronto:20240605T150000
DTEND;TZID=America/Toronto:20240605T170000
DTSTAMP:20260419T104922
CREATED:20240524T234446Z
LAST-MODIFIED:20240524T234934Z
UID:5058-1717599600-1717606800@stjohnsorangeville.ca
SUMMARY:Advisory Board Meeting June 5 at 3 PM
DESCRIPTION:The next meeting of our Advisory Board will be held in the St. Paul’s Room at 3PM on Wednesday\, June 5.
URL:https://stjohnsorangeville.ca/event/advisory-board-meeting-june-5-at-3pm/
LOCATION:St. Paul’s Room
CATEGORIES:Meeting
END:VEVENT
END:VCALENDAR