BEGIN:VCALENDAR
VERSION:2.0
PRODID:-//St John&#039;s Anglican Church - ECPv6.10.2//NONSGML v1.0//EN
CALSCALE:GREGORIAN
METHOD:PUBLISH
X-WR-CALNAME:St John&#039;s Anglican Church
X-ORIGINAL-URL:https://stjohnsorangeville.ca
X-WR-CALDESC:Events for St John&#039;s Anglican Church
REFRESH-INTERVAL;VALUE=DURATION:PT1H
X-Robots-Tag:noindex
X-PUBLISHED-TTL:PT1H
BEGIN:VTIMEZONE
TZID:America/Toronto
BEGIN:DAYLIGHT
TZOFFSETFROM:-0500
TZOFFSETTO:-0400
TZNAME:EDT
DTSTART:20240310T070000
END:DAYLIGHT
BEGIN:STANDARD
TZOFFSETFROM:-0400
TZOFFSETTO:-0500
TZNAME:EST
DTSTART:20241103T060000
END:STANDARD
END:VTIMEZONE
BEGIN:VEVENT
DTSTART;TZID=America/Toronto:20240207T143000
DTEND;TZID=America/Toronto:20240207T163000
DTSTAMP:20260419T155906
CREATED:20240205T224120Z
LAST-MODIFIED:20240205T224120Z
UID:4795-1707316200-1707323400@stjohnsorangeville.ca
SUMMARY:Advisory Board Meeting
DESCRIPTION:The Advisory Board will meet this Wednesday\, February 7\, in the St. Paul’s Room. Please advise Kirk Hearder of any items you wish to have added to the agenda.
URL:https://stjohnsorangeville.ca/event/advisory-board-meeting/
LOCATION:St. Paul’s Room
CATEGORIES:Meeting
END:VEVENT
BEGIN:VEVENT
DTSTART;TZID=America/Toronto:20240218T124500
DTEND;TZID=America/Toronto:20240218T143000
DTSTAMP:20260419T155906
CREATED:20240118T233515Z
LAST-MODIFIED:20240122T160704Z
UID:4751-1708260300-1708266600@stjohnsorangeville.ca
SUMMARY:Vestry Sunday February 18\, 2024
DESCRIPTION:This year’s Vestry will be held at 12:45 PM on Sunday\, February 18. A brief luncheon will be offered after our usual 10 AM Choral Eucharist Service before Vestry begins. The meeting will be chaired by our Priest-in-Charge\, the Reverend Canon Darrell Wright. \nAll those reporting to Vestry are requested to submit their reports to Denyse by January 31–and ideally before–to allow sufficient time for her to assemble the Vestry Book.
URL:https://stjohnsorangeville.ca/event/vestry-sunday-february-18-2024/
CATEGORIES:Meeting
END:VEVENT
END:VCALENDAR